BEGIN:VCALENDAR
VERSION:2.0
PRODID:-//ChamberMaster//Event Calendar 2.0//EN
METHOD:PUBLISH
X-PUBLISHED-TTL:P3D
REFRESH-INTERVAL:P3D
CALSCALE:GREGORIAN
BEGIN:VEVENT
DTSTART:20190520T220000Z
DTEND:20190521T000000Z
X-MICROSOFT-CDO-ALLDAYEVENT:FALSE
SUMMARY:2019 Excellence in Education Banquet
DESCRIPTION:The GLLV Chamber of Commerce will host the 25th Annual Excellence in Education Banquet to recognize outstanding area 2019 graduates from Derry Area\, Greater Latrobe\, and Greensburg Central Catholic High Schools\; Dr. Robert Ketterer Charter School\; and Eastern Westmoreland Career & Technology Center. This program salutes the top 5% of the graduating seniors in our local school districts\, and will be held May 20th at 6 pm.\n\n\n\nThere are various sponsorship opportunities to support this event and the students. A sponsorship fee of $150 will cover the cost of one student honoree\, a teacher\, one representative from your business\, plus incidental costs associated with the banquet. Guest speaker Lindsay Fennel from Kennametal will be in attendance.\n\n\n\nPlease contact the chamber office for more information at 724-537-2671 or email info@gllv.org.
X-ALT-DESC;FMTTYPE=text/html:<span style="color: rgb(51\, 51\, 51)\; font-family: sans-serif\, Arial\, Verdana\, &quot\;Trebuchet MS&quot\;\; font-size: 13px\; background-color: rgb(255\, 255\, 255)\;">The GLLV Chamber of Commerce will host the&nbsp\;</span><strong style="color: rgb(51\, 51\, 51)\; font-family: sans-serif\, Arial\, Verdana\, &quot\;Trebuchet MS&quot\;\; font-size: 13px\;">25th Annual Excellence in Education Banquet</strong><span style="color: rgb(51\, 51\, 51)\; font-family: sans-serif\, Arial\, Verdana\, &quot\;Trebuchet MS&quot\;\; font-size: 13px\; background-color: rgb(255\, 255\, 255)\;">&nbsp\;to recognize outstanding area 2019 graduates from Derry Area\, Greater Latrobe\, and Greensburg Central Catholic High Schools\; Dr. Robert Ketterer Charter School\; and Eastern Westmoreland Career &amp\; Technology Center. This program salutes the top 5% of the graduating seniors in our local school districts\, and will be held&nbsp\;</span><strong style="color: rgb(51\, 51\, 51)\; font-family: sans-serif\, Arial\, Verdana\, &quot\;Trebuchet MS&quot\;\; font-size: 13px\;">May 20th&nbsp\;</strong><span style="color: rgb(51\, 51\, 51)\; font-family: sans-serif\, Arial\, Verdana\, &quot\;Trebuchet MS&quot\;\; font-size: 13px\; background-color: rgb(255\, 255\, 255)\;">at&nbsp\;</span><strong style="color: rgb(51\, 51\, 51)\; font-family: sans-serif\, Arial\, Verdana\, &quot\;Trebuchet MS&quot\;\; font-size: 13px\;">6 pm.</strong><br style="color: rgb(51\, 51\, 51)\; font-family: sans-serif\, Arial\, Verdana\, &quot\;Trebuchet MS&quot\;\; font-size: 13px\;" />\n<br style="color: rgb(51\, 51\, 51)\; font-family: sans-serif\, Arial\, Verdana\, &quot\;Trebuchet MS&quot\;\; font-size: 13px\;" />\n<span style="color: rgb(51\, 51\, 51)\; font-family: sans-serif\, Arial\, Verdana\, &quot\;Trebuchet MS&quot\;\; font-size: 13px\; background-color: rgb(255\, 255\, 255)\;">There are various sponsorship opportunities to support this event and the students. A sponsorship fee of $150 will cover the cost of one student honoree\, a teacher\, one representative from your business\, plus incidental costs associated with the banquet. Guest speaker Lindsay Fennel from Kennametal will be in attendance.</span><br style="color: rgb(51\, 51\, 51)\; font-family: sans-serif\, Arial\, Verdana\, &quot\;Trebuchet MS&quot\;\; font-size: 13px\;" />\n<br style="color: rgb(51\, 51\, 51)\; font-family: sans-serif\, Arial\, Verdana\, &quot\;Trebuchet MS&quot\;\; font-size: 13px\;" />\n<span style="color: rgb(51\, 51\, 51)\; font-family: sans-serif\, Arial\, Verdana\, &quot\;Trebuchet MS&quot\;\; font-size: 13px\; background-color: rgb(255\, 255\, 255)\;">Please contact the chamber office for more information at 724-537-2671 or email info@gllv.org.</span>
LOCATION:DeNunzio's Italian Chophouse & Restaurant at Arnold Palmer Regional Airport
UID:e.2103.7070
SEQUENCE:3
DTSTAMP:20260420T000925Z
URL:https://business.latrobelaurelvalley.org/events/details/2019-excellence-in-education-banquet-7070
END:VEVENT

END:VCALENDAR
