BEGIN:VCALENDAR
VERSION:2.0
PRODID:-//ChamberMaster//Event Calendar 2.0//EN
METHOD:PUBLISH
X-PUBLISHED-TTL:P3D
REFRESH-INTERVAL:P3D
CALSCALE:GREGORIAN
BEGIN:VEVENT
DTSTART:20140826T200000Z
DTEND:20140826T213000Z
X-MICROSOFT-CDO-ALLDAYEVENT:FALSE
SUMMARY:4:00pm - Antiochian Village & Conference Center - Ribbon Cutting (Bolivar)
DESCRIPTION:Join us as we celebrate our NEW member\, Antiochian Village and Conference Center in beautiful Bolivar\, PA. Ribbon Cutting & Photo Op at 4:00pm\, followed by refreshments and a tour of this incredible facility.
X-ALT-DESC;FMTTYPE=text/html:Join us as we celebrate our NEW member\, Antiochian Village and Conference Center in beautiful Bolivar\, PA. Ribbon Cutting &amp\; Photo Op at 4:00pm\, followed by refreshments and a tour of this incredible facility.&nbsp\;
LOCATION:Antiochian Village and Conference Center 140 Church Camp Trail Bolivar\, PA 15923 www.antiochianvillage.org 724-238-3677
UID:e.2103.20
SEQUENCE:3
DTSTAMP:20260425T181852Z
URL:https://business.latrobelaurelvalley.org/events/details/4-00pm-antiochian-village-conference-center-ribbon-cutting-bolivar-08-26-2014-20
END:VEVENT

END:VCALENDAR
