BEGIN:VCALENDAR
VERSION:2.0
PRODID:-//ChamberMaster//Event Calendar 2.0//EN
METHOD:PUBLISH
X-PUBLISHED-TTL:P3D
REFRESH-INTERVAL:P3D
CALSCALE:GREGORIAN
BEGIN:VEVENT
DTSTART:20141118T213000Z
DTEND:20141118T230000Z
X-MICROSOFT-CDO-ALLDAYEVENT:FALSE
SUMMARY:4:30pm - 6:00pm: Ribbon Cutting - Bloomin' Genius Exotic Flowers & Gifts (Greensburg)
DESCRIPTION:Join us as we celebrate the Ribbon Cutting of our NEWEST Member\, Bloomin' Genius Exotic Flowers & Gifts in Greensburg. Discover this "hidden gem" located in the WOW Outlet on Donahoe Road. Beautiful flower arrangements\, a self-serve walk-in cooler and unique gift items make this a one-stop-shop for any special occasion!
X-ALT-DESC;FMTTYPE=text/html:Join us as we celebrate the Ribbon Cutting of our NEWEST Member\, Bloomin&#39\; Genius Exotic Flowers &amp\; Gifts in Greensburg. Discover this &quot\;hidden gem&quot\; located in the WOW Outlet on Donahoe Road. Beautiful flower arrangements\, a self-serve walk-in cooler and unique gift items make this a one-stop-shop for any special occasion!&nbsp\;
LOCATION:Bloomin' Genius Exotic Flowers & Gifts 212 Outlet Way\, Suite H WOW Outlet\, Donahoe Road Greensburg\, PA 15601 Ph: 724-832-8322 www.bloomingenius.com
UID:e.2103.44
SEQUENCE:3
DTSTAMP:20260425T231558Z
URL:https://business.latrobelaurelvalley.org/events/details/4-30pm-6-00pm-ribbon-cutting-bloomin-genius-exotic-flowers-gifts-greensburg-11-18-2014-44
END:VEVENT

END:VCALENDAR
