BEGIN:VCALENDAR
VERSION:2.0
PRODID:-//ChamberMaster//Event Calendar 2.0//EN
METHOD:PUBLISH
X-PUBLISHED-TTL:P3D
REFRESH-INTERVAL:P3D
CALSCALE:GREGORIAN
BEGIN:VEVENT
DTSTART:20141014T213000Z
DTEND:20141015T010000Z
X-MICROSOFT-CDO-ALLDAYEVENT:FALSE
SUMMARY:5:30pm: GLLV Chamber of Commerce - 69th Annual Dinner & Awards (@ Fred Rogers Center at St. Vincent College)
DESCRIPTION:SOLD OUT! Join us for the After-Party Celebration at the Pier. Click here for more information. \n\n\n\nSAVE-THE-DATE! Chamber announces 69th Annual Dinner & Awards on October 14thDoc Giffin to Receive the 2014 GLLV Community Service Award\n\n \n\nGLLV Chamber Members and guests are invited to attend the 69th Annual Dinner & Awards Event on Tuesday evening\, October 14th at the Fred M. Rogers Center. The event will feature the presentation of the Chamber's 2014 Community Service Award\, recognizing an individual who has consistently given time and energy towards making our communities a better place to live and do business. The Chamber is thrilled to announce the 2014 CSA will be presented to Doc Giffin in recognition for many years and community-focused work with Arnold Palmer (much of it behind the scenes) and his commitment to the Greater Latrobe Area and many local charities.\n\n\n\nAlso receiving awards at this year's Annual Dinner event:\n\n\n\nFour Seasons Brewing Company\, and owners Mark Pavlik and Christian Simmons: "Small Business of-the-Year Award"\n\n\n\nDolan Vogle\, Retail Sales Officer for the Johnstown based AmeriServ Financial Bank in Derry: "Chamber Ambassador-of-the-Year"\n\n\n\nJeff Minkovich\, Airline Operations Manager for the Westmoreland County Airport Authority: "GLLV Volunteer-of-the-Year" \n\n\n\nGreater Latrobe Partners in Education Foundation: "Non-Profit-of-the-Year"\n\n\n\nClick here to download the PDF invite to RSVP  and return it to the Chamber with payment. If you would like to pay by credit card\, you may do so by calling 724-537-2671.
X-ALT-DESC;FMTTYPE=text/html:<div style="text-align: justify\;"><br />\n<span style="color:black\;"><u><strong><span style="font-size:16px\;">SOLD OUT!</span></strong></u> Join us for the After-Party Celebration at the Pier. <a href="http://business.latrobelaurelvalley.com/events/details/annual-dinner-after-party-39">Click here for more information.&nbsp\;</a><br />\n<br />\nSAVE-THE-DATE! Chamber announces 69<sup>th</sup>&nbsp\;Annual Dinner &amp\; Awards on October </span><span style="color:black\;">14<sup>th</sup></span><span style="color:black\;">Doc</span><span style="color:black\;"> Giffin to Receive the 2014 GLLV Community Service Award</span><br />\n&nbsp\;<br />\n<span style="color:black\;">GLLV Chamber Members and guests are invited to attend the 69<sup>th</sup>&nbsp\;Annual Dinner &amp\; Awards Event on Tuesday evening\, October 14<sup>th</sup>&nbsp\;at the Fred M. Rogers Center. The event will feature the presentation of the Chamber&rsquo\;s&nbsp\;<strong>2014 Community Service Award</strong>\, recognizing an individual&nbsp\;who has consistently given time and energy towards making our communities a better place to live and do business. The Chamber is thrilled to announce the&nbsp\;<strong>2014 CSA will be presented to Doc Giffin</strong>&nbsp\;in recognition for many years and community-focused work with&nbsp\;<strong>Arnold Palmer</strong>&nbsp\;(much of it behind the scenes) and his commitment to the Greater Latrobe Area and many local charities.<br />\n<br />\nAlso receiving awards at this year&#39\;s Annual Dinner event:</span><br />\n<br />\nFour Seasons Brewing Company\, and owners Mark Pavlik and Christian Simmons: <strong>&ldquo\;Small Business of-the-Year Award&rdquo\;</strong><br />\n<br />\n<span style="text-align: justify\;">Dolan&nbsp\;</span>Vogle<span style="text-align: justify\;">\, Retail Sales&nbsp\;Officer for the Johnstown based&nbsp\;</span>AmeriServ<span style="text-align: justify\;">&nbsp\;Financial Bank in Derry:&nbsp\;</span><strong>&quot\;Chamber Ambassador-of-the-Year&quot\;</strong><br />\n<br />\n<span style="text-align: justify\;">Jeff&nbsp\;</span>Minkovich<span style="text-align: justify\;">\, Airline Operations Manager for the Westmoreland County Airport&nbsp\;Authority:&nbsp\;<strong>&quot\;</strong></span><strong>GLLV</strong><span style="text-align: justify\;"><strong>&nbsp\;Volunteer-of-the-Year&rdquo\;</strong>&nbsp\;</span><br />\n<br />\n<span style="text-align: justify\;">Greater Latrobe Partners in&nbsp\;Education Foundation:&nbsp\;<strong>&quot\;Non-Profit-of-the-Year&quot\;<br />\n<br />\n<a href="http://cloud.chambermaster.com/userfiles/UserFiles/chambers/2103/File/annualdinner_BOX.pdf">Click here to download the PDF invite to RSVP</a> &nbsp\;and return it to the Chamber with payment. If you would like to pay by credit card\, you may do so by calling 724-537-2671.</strong></span></div>\n
LOCATION:Fred M. Rogers Center at St. Vincent College
UID:e.2103.29
SEQUENCE:3
DTSTAMP:20260425T231623Z
URL:https://business.latrobelaurelvalley.org/events/details/5-30pm-gllv-chamber-of-commerce-69th-annual-dinner-awards-fred-rogers-center-at-st-vincent-college-10-14-2014-29
END:VEVENT

END:VCALENDAR
