BEGIN:VCALENDAR
VERSION:2.0
PRODID:-//ChamberMaster//Event Calendar 2.0//EN
METHOD:PUBLISH
X-PUBLISHED-TTL:P3D
REFRESH-INTERVAL:P3D
CALSCALE:GREGORIAN
BEGIN:VEVENT
DTSTART:20190118T130000Z
DTEND:20190118T140000Z
X-MICROSOFT-CDO-ALLDAYEVENT:FALSE
SUMMARY:Board of Directors Meeting (2019\, January)
DESCRIPTION:Organizational meeting of the Board of Directors
X-ALT-DESC;FMTTYPE=text/html:Organizational meeting of the Board of Directors
LOCATION:
UID:e.2103.9555
SEQUENCE:3
DTSTAMP:20260419T182941Z
URL:https://business.latrobelaurelvalley.org/events/details/board-of-directors-meeting-2019-january-9555
END:VEVENT

END:VCALENDAR
