BEGIN:VCALENDAR
VERSION:2.0
PRODID:-//ChamberMaster//Event Calendar 2.0//EN
METHOD:PUBLISH
X-PUBLISHED-TTL:P3D
REFRESH-INTERVAL:P3D
CALSCALE:GREGORIAN
BEGIN:VEVENT
DTSTART:20140723T210000Z
DTEND:20140723T230000Z
X-MICROSOFT-CDO-ALLDAYEVENT:FALSE
SUMMARY:Chamber Mixer at Springhill Suites by Marriott (Latrobe)
DESCRIPTION:Chamber Mixer and Networking Event at Springhill Suites by Marriott! \n\nBring your business cards and prepare to mix\, mingle & network at this popular Chamber event! Please RSVP to the Chamber: 724-537-2671
X-ALT-DESC;FMTTYPE=text/html:Chamber Mixer and Networking Event at Springhill Suites by Marriott!&nbsp\;<br />\nBring your business cards and prepare to mix\, mingle &amp\; network at this popular Chamber event! Please RSVP to the Chamber: 724-537-2671<br />\n&nbsp\;
LOCATION:Springhill Suites by Marriott 115 Arnold Palmer Drive Latrobe\, PA 15650 724-537-7800
UID:e.2103.8
SEQUENCE:3
DTSTAMP:20260425T164500Z
URL:https://business.latrobelaurelvalley.org/events/details/chamber-mixer-at-springhill-suites-by-marriott-latrobe-07-23-2014-8
END:VEVENT

END:VCALENDAR
