BEGIN:VCALENDAR
VERSION:2.0
PRODID:-//ChamberMaster//Event Calendar 2.0//EN
METHOD:PUBLISH
X-PUBLISHED-TTL:P3D
REFRESH-INTERVAL:P3D
CALSCALE:GREGORIAN
BEGIN:VEVENT
DTSTART:20181030T130000Z
DTEND:20181030T143000Z
X-MICROSOFT-CDO-ALLDAYEVENT:FALSE
SUMMARY:Chamber University Presented by Westmoreland County Community College
DESCRIPTION:Join us as we learn from a Dale Carnegie professional\, Dana Levenson! In every opportunity to speak\, whether it is one person or a thousand people\, we have the chance to motivate others to action. When we effectively engage our listeners to see what we saw\, hear what we heard and feel what we felt\, we are much more likely to influence the outcome that they will act accordingly. Come learn the basics of Storytelling to improve your leadership capabilites. \n\n\n\nDana Levenson has an Associate's Degree in Business and has furthered her studies in Communication and Organizational Psychology at Duquense University. With almost 10 years of experience as a Performance Consultant with the Dale Carnegie Franchise situated in Pittsburgh\, PA\, Dana works with companies\, associations\, and individuals to identify skill development opportunities that will significantly increae personal and professinal success. \n\n\n\nPrior to Dale Carnegie\, Dana has 15 years of business administration experience in the commercial real estate\, technology\, and financial industries. She is currently focusing extra energies on promoting programs that give back to our communities\, with an emphasis on young adults and police officers.
X-ALT-DESC;FMTTYPE=text/html:<p>Join us as we learn from a Dale Carnegie professional\, Dana Levenson! In every opportunity to speak\, whether it is one person or a thousand people\, we have the chance to motivate others to action. When we effectively engage our listeners to see what we saw\, hear what we heard and feel what we felt\, we are much more likely to influence the outcome that they will act accordingly. Come learn the basics of Storytelling to improve your leadership capabilites.&nbsp\;<br />\n<br />\nDana Levenson has an Associate&#39\;s Degree in Business and has furthered her studies in Communication and Organizational Psychology at Duquense University. With almost 10 years of experience as a Performance Consultant with the Dale Carnegie Franchise situated in Pittsburgh\, PA\, Dana works with companies\, associations\, and individuals to identify skill development opportunities that will significantly increae personal and professinal success.&nbsp\;<br />\n<br />\nPrior to Dale Carnegie\, Dana has 15 years of business administration experience in the commercial real estate\, technology\, and financial industries. She is currently <font face="Times New Roman\, serif"><span style="font-size: 16px\;">focusing extra energies on promoting programs that give back to our communities\, with an emphasis on young adults and police officers.</span></font></p>\n
LOCATION:Westmoreland County Community College Latrobe Campus
UID:e.2103.3922
SEQUENCE:3
DTSTAMP:20260419T231714Z
URL:https://business.latrobelaurelvalley.org/events/details/chamber-university-presented-by-westmoreland-county-community-college-3922
END:VEVENT

END:VCALENDAR
