BEGIN:VCALENDAR
VERSION:2.0
PRODID:-//ChamberMaster//Event Calendar 2.0//EN
METHOD:PUBLISH
X-PUBLISHED-TTL:P3D
REFRESH-INTERVAL:P3D
CALSCALE:GREGORIAN
BEGIN:VEVENT
DTSTART:20190523T190000Z
DTEND:20190523T210000Z
X-MICROSOFT-CDO-ALLDAYEVENT:FALSE
SUMMARY:Grand Re-opening and Ribbon Cutting at Citizens Bank
DESCRIPTION:Join us to celebrate the Grand Re-Opening of Citzens Bank!
X-ALT-DESC;FMTTYPE=text/html:Join us to celebrate the Grand Re-Opening of Citzens Bank!
LOCATION:Citizens Bank 2841 Ligonier St Latrobe\, PA 15650
UID:e.2103.7151
SEQUENCE:3
DTSTAMP:20260420T001134Z
URL:https://business.latrobelaurelvalley.org/events/details/grand-re-opening-and-ribbon-cutting-at-citizens-bank-7151
END:VEVENT

END:VCALENDAR
