BEGIN:VCALENDAR
VERSION:2.0
PRODID:-//ChamberMaster//Event Calendar 2.0//EN
METHOD:PUBLISH
X-PUBLISHED-TTL:P3D
REFRESH-INTERVAL:P3D
CALSCALE:GREGORIAN
BEGIN:VEVENT
DTSTART:20190328T200000Z
DTEND:20190328T220000Z
X-MICROSOFT-CDO-ALLDAYEVENT:FALSE
SUMMARY:Healthy Living Secrets Nook
DESCRIPTION:Come visit  with Heather Meloy\, as she introduces her new business\, Healthy Living Secrets Nook.  We will have a Grand Openingand Ribbon Cutting Ceremony!
X-ALT-DESC;FMTTYPE=text/html:Come visit&nbsp\; with Heather Meloy\, as she introduces her new business\, Healthy Living Secrets Nook.&nbsp\; We will have a Grand Openingand Ribbon Cutting Ceremony!&nbsp\;
LOCATION:373 Frye Farm Road Greensburg\, PA 15601
UID:e.2103.6772
SEQUENCE:3
DTSTAMP:20260419T150526Z
URL:https://business.latrobelaurelvalley.org/events/details/healthy-living-secrets-nook-6772
END:VEVENT

END:VCALENDAR
