BEGIN:VCALENDAR
VERSION:2.0
PRODID:-//ChamberMaster//Event Calendar 2.0//EN
METHOD:PUBLISH
X-PUBLISHED-TTL:P3D
REFRESH-INTERVAL:P3D
CALSCALE:GREGORIAN
BEGIN:VEVENT
DTSTART:20190221T130000Z
DTEND:20190221T143000Z
X-MICROSOFT-CDO-ALLDAYEVENT:FALSE
SUMMARY:Morning Mingle @ Bethlen Communities
DESCRIPTION:Calling all early risers! Need hot coffee\, hot food and HOT Networking?! We've got it covered! Join us from 8:00 am - 9:30 am for our popular (and monthly!) Chamber Networking Breakfast! Bring your business cards\, "60-second business commercial"\,  and hungry stomach to the Bethlen Communities and start your day with us! \n\n\n\nDream of your vacation as we listen to the speaker\, Joyce Weimer\, from Dream Vacation! She can help your dreams become a reality!
X-ALT-DESC;FMTTYPE=text/html:<span style="color: rgb(51\, 51\, 51)\; font-family: sans-serif\, Arial\, Verdana\, &quot\;Trebuchet MS&quot\;\; font-size: 13px\; background-color: rgb(255\, 255\, 255)\;">Calling all early risers! Need hot coffee\, hot food and HOT Networking?! We&#39\;ve got it covered! Join us from</span><u style="color: rgb(51\, 51\, 51)\; font-family: sans-serif\, Arial\, Verdana\, &quot\;Trebuchet MS&quot\;\; font-size: 13px\;"><strong>&nbsp\;8:00 am - 9:30 am</strong></u><span style="color: rgb(51\, 51\, 51)\; font-family: sans-serif\, Arial\, Verdana\, &quot\;Trebuchet MS&quot\;\; font-size: 13px\; background-color: rgb(255\, 255\, 255)\;">&nbsp\;for our popular (and monthly!) Chamber Networking Breakfast! Bring your business cards\, &quot\;60-second business commercial&quot\;\,&nbsp\; and hungry stomach to the <b>Bethlen Communities</b></span><span style="color: rgb(51\, 51\, 51)\; font-family: sans-serif\, Arial\, Verdana\, &quot\;Trebuchet MS&quot\;\; font-size: 13px\; background-color: rgb(255\, 255\, 255)\;">&nbsp\;and start your day with us!&nbsp\;<br />\n<br />\nDream of your vacation as we listen to the speaker\, Joyce Weimer\, from Dream Vacation! She can help your dreams become a reality!&nbsp\;</span>
LOCATION:Bethlen Communities 125 Kalassay Drive Ligonier\, PA 15601
UID:e.2103.6632
SEQUENCE:3
DTSTAMP:20260419T165112Z
URL:https://business.latrobelaurelvalley.org/events/details/morning-mingle-bethlen-communities-6632
END:VEVENT

END:VCALENDAR
