BEGIN:VCALENDAR
VERSION:2.0
PRODID:-//ChamberMaster//Event Calendar 2.0//EN
METHOD:PUBLISH
X-PUBLISHED-TTL:P3D
REFRESH-INTERVAL:P3D
CALSCALE:GREGORIAN
BEGIN:VEVENT
DTSTART:20190401T200000Z
DTEND:20190401T220000Z
X-MICROSOFT-CDO-ALLDAYEVENT:FALSE
SUMMARY:Ribbon Cutting and Open House at Living Essential Coaching
DESCRIPTION:No Fool-in! You can Own Your Health!\n\nPlease stop in and visit with Lisa Coughanour and celebrate the Grand Opening and Ribbon Cutting for Living Essential Coaching!\nLisa Ed Coughanour  is your Personal  Health\n\nCoach\, the Living Essential Coaching approach is unique. \n\nIt is hand crafted to combine BOTH my 30 years \n\nof experience  in Western medicine\, AND a deep\n\nunderstanding of Complementary health. \n\n \n\nLEC is all about bridging the gap! \n\nWestern medicine -meet your new best friend!
X-ALT-DESC;FMTTYPE=text/html:<span style="font-size:18px\;"><span style="font-family:arial\;">No Fool-in! You can Own Your Health!<br />\nPlease stop in and visit with Lisa&nbsp\;Coughanour&nbsp\;and celebrate the Grand Opening and Ribbon Cutting for Living Essential Coaching!</span></span>\n<div id="m_-5430412596262551896AppleMailSignature" style="color: rgb(34\, 34\, 34)\; font-family: Arial\, Helvetica\, sans-serif\; font-size: small\; background-color: rgb(255\, 255\, 255)\;"><span style="font-size:18px\;"><span style="font-family:arial\;">Lisa Ed Coughanour&nbsp\; is your Personal &nbsp\;Health</span></span></div>\n\n<div id="m_-5430412596262551896AppleMailSignature" style="color: rgb(34\, 34\, 34)\; font-family: Arial\, Helvetica\, sans-serif\; font-size: small\; background-color: rgb(255\, 255\, 255)\;"><span style="font-size:18px\;"><span style="font-family:arial\;">Coach\, the Living Essential Coaching approach is unique.&nbsp\;</span></span></div>\n\n<div id="m_-5430412596262551896AppleMailSignature" style="color: rgb(34\, 34\, 34)\; font-family: Arial\, Helvetica\, sans-serif\; font-size: small\; background-color: rgb(255\, 255\, 255)\;"><span style="font-size:18px\;"><span style="font-family:arial\;">It is hand crafted to combine BOTH my 30 years&nbsp\;</span></span></div>\n\n<div id="m_-5430412596262551896AppleMailSignature" style="color: rgb(34\, 34\, 34)\; font-family: Arial\, Helvetica\, sans-serif\; font-size: small\; background-color: rgb(255\, 255\, 255)\;"><span style="font-size:18px\;"><span style="font-family:arial\;">of experience &nbsp\;in Western medicine\, AND a deep</span></span></div>\n\n<div id="m_-5430412596262551896AppleMailSignature" style="color: rgb(34\, 34\, 34)\; font-family: Arial\, Helvetica\, sans-serif\; font-size: small\; background-color: rgb(255\, 255\, 255)\;"><span style="font-size:18px\;"><span style="font-family:arial\;">understanding of Complementary health.&nbsp\;</span></span></div>\n\n<div id="m_-5430412596262551896AppleMailSignature" style="color: rgb(34\, 34\, 34)\; font-family: Arial\, Helvetica\, sans-serif\; font-size: small\; background-color: rgb(255\, 255\, 255)\;">&nbsp\;</div>\n\n<div id="m_-5430412596262551896AppleMailSignature" style="color: rgb(34\, 34\, 34)\; font-family: Arial\, Helvetica\, sans-serif\; font-size: small\; background-color: rgb(255\, 255\, 255)\;"><span style="font-size:18px\;"><span style="font-family:arial\;">LEC is all about bridging the gap!&nbsp\;</span></span></div>\n\n<div id="m_-5430412596262551896AppleMailSignature" style="color: rgb(34\, 34\, 34)\; font-family: Arial\, Helvetica\, sans-serif\; font-size: small\; background-color: rgb(255\, 255\, 255)\;"><span style="font-size:18px\;"><span style="font-family:arial\;">Western medicine -meet your new best friend!</span></span><br />\n&nbsp\;</div>\n
LOCATION:128 Innovative Lane Latrobe\, PA 15650
UID:e.2103.7061
SEQUENCE:3
DTSTAMP:20260419T134720Z
URL:https://business.latrobelaurelvalley.org/events/details/ribbon-cutting-and-open-house-at-living-essential-coaching-7061
END:VEVENT

END:VCALENDAR
