BEGIN:VCALENDAR
VERSION:2.0
PRODID:-//ChamberMaster//Event Calendar 2.0//EN
METHOD:PUBLISH
X-PUBLISHED-TTL:P3D
REFRESH-INTERVAL:P3D
CALSCALE:GREGORIAN
BEGIN:VEVENT
DTSTART:20140724T210000Z
DTEND:20140724T220000Z
X-MICROSOFT-CDO-ALLDAYEVENT:FALSE
SUMMARY:Ribbon Cutting & Open House (with Demo!) - Young Brothers Tae Kwon Do (Latrobe)
DESCRIPTION:Ribbon Cutting & Open House with Demo! Please join us as we welcome NEW member\, Young Brothers Tae Kwon Do in Latrobe. Join us promptly at 5:00pm for the photo/ribbon cutting\, then enjoy a skilled Martial Arts demonstration by students and Head Instructor. Light refreshments will be served immediately following the demo. All Chamber Members are welcome!
X-ALT-DESC;FMTTYPE=text/html:Ribbon Cutting &amp\; Open House with Demo! Please join us as we welcome NEW member\, Young Brothers Tae Kwon Do in Latrobe. Join us promptly at 5:00pm for the photo/ribbon cutting\, then enjoy a skilled Martial Arts demonstration by students and Head Instructor. Light refreshments will be served immediately following the demo. All Chamber Members are welcome! &nbsp\;
LOCATION:Young Brothers Tae Kwon Do 5960 Route 981 Latrobe\, PA 15650 Phone: 724-537-7999
UID:e.2103.13
SEQUENCE:3
DTSTAMP:20260425T164558Z
URL:https://business.latrobelaurelvalley.org/events/details/ribbon-cutting-open-house-with-demo-young-brothers-tae-kwon-do-latrobe-07-24-2014-13
END:VEVENT

END:VCALENDAR
