BEGIN:VCALENDAR
VERSION:2.0
PRODID:-//ChamberMaster//Event Calendar 2.0//EN
METHOD:PUBLISH
X-PUBLISHED-TTL:P3D
REFRESH-INTERVAL:P3D
CALSCALE:GREGORIAN
BEGIN:VEVENT
DTSTART:20181029T200000Z
DTEND:20181029T220000Z
X-MICROSOFT-CDO-ALLDAYEVENT:FALSE
SUMMARY:Tara Hassler Photography
DESCRIPTION:Join us for a renovation ribbon cutting unveling Tara Hassler Photography's new studio! There will be light bites\, beverages\, and networking as we celebrate Tara's new photography space.
X-ALT-DESC;FMTTYPE=text/html:Join us for a renovation ribbon cutting unveling Tara Hassler Photography&#39\;s new studio! There will be light bites\, beverages\, and networking as we celebrate Tara&#39\;s new photography space.&nbsp\;
LOCATION:140 Singers Way Ligonier\, PA 15658 * Walk to the side door
UID:e.2103.6551
SEQUENCE:3
DTSTAMP:20260420T002809Z
URL:https://business.latrobelaurelvalley.org/events/details/tara-hassler-photography-6551
END:VEVENT

END:VCALENDAR
