BEGIN:VCALENDAR
VERSION:2.0
PRODID:-//ChamberMaster//Event Calendar 2.0//EN
METHOD:PUBLISH
X-PUBLISHED-TTL:P3D
REFRESH-INTERVAL:P3D
CALSCALE:GREGORIAN
BEGIN:VEVENT
DTSTART:20190328T203000Z
DTEND:20190328T213000Z
X-MICROSOFT-CDO-ALLDAYEVENT:FALSE
SUMMARY:Tronix3D
DESCRIPTION:Join us as we celebrate the Grand opening and cut a Ribbon for the newly opened Tronix3D!
X-ALT-DESC;FMTTYPE=text/html:Join us as we celebrate the Grand opening and cut a Ribbon for the newly opened Tronix3D!<br />\n&nbsp\;
LOCATION:Tronix3D 1001 Technology Drive\, Suite 1029 Mount Pleasant\, PA 15666
UID:e.2103.6925
SEQUENCE:3
DTSTAMP:20260419T150322Z
URL:https://business.latrobelaurelvalley.org/events/details/tronix3d-6925
END:VEVENT

END:VCALENDAR
