BEGIN:VCALENDAR
VERSION:2.0
PRODID:-//ChamberMaster//Event Calendar 2.0//EN
METHOD:PUBLISH
X-PUBLISHED-TTL:P3D
REFRESH-INTERVAL:P3D
CALSCALE:GREGORIAN
BEGIN:VEVENT
DTSTART:20190110T210000Z
DTEND:20190110T230000Z
X-MICROSOFT-CDO-ALLDAYEVENT:FALSE
SUMMARY:Worklink Staffing Ribbon Cutting
DESCRIPTION:Don't miss out on the grand opening ribbon cutting with the newest staffing agency in Youngstown\, Worklink Staffing! \n\n\n\nEnjoy light appetizers and beverages as we celebrate the new location. *Additional parking will be announced*
X-ALT-DESC;FMTTYPE=text/html:Don&#39\;t miss out on the grand opening ribbon cutting with the newest staffing agency in Youngstown\, Worklink Staffing!&nbsp\;<br />\n<br />\nEnjoy light appetizers and beverages as we celebrate the new location. *Additional parking will be announced*<br />\n<br />\n&nbsp\;
LOCATION:4338 Latrobe Street Youngstown\, PA 15696
UID:e.2103.6608
SEQUENCE:3
DTSTAMP:20260419T182338Z
URL:https://business.latrobelaurelvalley.org/events/details/worklink-staffing-ribbon-cutting-6608
END:VEVENT

END:VCALENDAR
